BEGIN:VCALENDAR
PRODID:-//github.com/rianjs/ical.net//NONSGML ical.net 4.0//EN
VERSION:2.0
BEGIN:VEVENT
DESCRIPTION:Details:\nhttps://bbyo.org/bbyo-near-you/regions/big-apple-reg
 ion/big-apple-regional-leadership-training-institute-2\n\nSummary:\nCome 
 join the Big Apple Region Community across our screens as we celebrate th
 e beginning of the school year and the start of a new leadership journey!
  We will begin with a Havdallah ceremon
DTEND:20200913T140000
DTSTAMP:20260420T100550Z
DTSTART:20200912T193000
LOCATION:
SEQUENCE:0
SUMMARY:Big Apple Regional Leadership Training Institute 2020 (Virtual)
UID:23c46ab4-80de-44e1-aceb-94e38c0191a1
END:VEVENT
END:VCALENDAR
