BEGIN:VCALENDAR
PRODID:-//github.com/rianjs/ical.net//NONSGML ical.net 4.0//EN
VERSION:2.0
BEGIN:VEVENT
DESCRIPTION:Details:\nhttps://bbyo.org/bbyo-near-you/regions/greater-atlan
 ta-region/atl-acsc-convention-2016
DTEND:20160320T160000
DTSTAMP:20260423T200644Z
DTSTART:20160318T160000
LOCATION:Marriott Buckhead
SEQUENCE:0
SUMMARY:ATL ACSC Convention 2016
UID:f8aed393-052e-48d6-bbcc-ebe9befe49f3
END:VEVENT
END:VCALENDAR
