BEGIN:VCALENDAR
PRODID:-//github.com/rianjs/ical.net//NONSGML ical.net 4.0//EN
VERSION:2.0
BEGIN:VEVENT
DESCRIPTION:Details:\nhttps://bbyo.org/bbyo-near-you/regions/northern-regi
 on-east-baltimore-council/baltimore-bbyo-spring-rush-2022
DTEND:20220123T153000
DTSTAMP:20260423T224950Z
DTSTART:20220123T140000
LOCATION:Owings Mills Maryland
SEQUENCE:0
SUMMARY:Baltimore BBYO Spring Rush 2022
UID:17c186bc-f254-4387-8c2f-6d2145b24e4b
END:VEVENT
END:VCALENDAR
