BEGIN:VCALENDAR
PRODID:-//github.com/rianjs/ical.net//NONSGML ical.net 4.0//EN
VERSION:2.0
BEGIN:VEVENT
DESCRIPTION:Details:\nhttps://bbyo.org/bbyo-near-you/regions/mid-america-r
 egion-st-louis-council/chapter-showcase-call-1
DTEND:20171121T000100
DTSTAMP:20260423T195356Z
DTSTART;VALUE=DATE:20171121
LOCATION:
SEQUENCE:0
SUMMARY:Chapter Showcase Call 1
UID:acea1190-33b1-4c52-bf82-15508c7cebc7
END:VEVENT
END:VCALENDAR
