BEGIN:VCALENDAR
PRODID:-//github.com/rianjs/ical.net//NONSGML ical.net 4.0//EN
VERSION:2.0
BEGIN:VEVENT
DESCRIPTION:Details:\nhttps://bbyo.org/bbyo-near-you/regions/connecticut-v
 alley-region/cvr-senior-extension-spring-convention-(3050)\n\nSummary:\nS
 pring Convention for Seniors will take place on April 7 starting at 5pm. 
  Seniors will have 24 hours of special programming\, our life ceremony an
 d more.  The cost for the Senior extension i
DTEND:20160410T140000
DTSTAMP:20260420T132610Z
DTSTART:20160407T170000
LOCATION:Crowne Plaza
SEQUENCE:0
SUMMARY:CVR Senior Extension Spring Convention (3050)
UID:e6ddea0b-b69b-46e5-aa14-8b22296e52f5
END:VEVENT
END:VCALENDAR
