BEGIN:VCALENDAR
PRODID:-//github.com/rianjs/ical.net//NONSGML ical.net 4.0//EN
VERSION:2.0
BEGIN:VEVENT
DESCRIPTION:Details:\nhttps://bbyo.org/bbyo-near-you/regions/montreal-regi
 on/council-meeting\n\nSummary:\nFollwoing our crazy overnight Dance-A-Tho
 n\, we will have a council meeting.  Learn about all the exciting program
 s and activities BBYO ECR has to offer!
DTEND:20061029T120000
DTSTAMP:20260420T170711Z
DTSTART:20061029T090000
LOCATION:Soloway JCC
SEQUENCE:0
SUMMARY:Council Meeting
UID:9a8afd82-2ef7-4b5e-9e68-bc415f95e492
END:VEVENT
END:VCALENDAR
