BEGIN:VCALENDAR
PRODID:-//github.com/rianjs/ical.net//NONSGML ical.net 4.0//EN
VERSION:2.0
BEGIN:VEVENT
DESCRIPTION:Details:\nhttps://bbyo.org/bbyo-near-you/regions/south-jersey-
 region/at-the-big-event-(new-to-bbyo)-pc4020-mm16\n\nSummary:\nJoin South
  Jersey Region BBYO for an awesome night of GLOW BOWL at the new BIG EVEN
 T in Cherry Hill! \n\nPrice: $15\, this is a special offer for anyone new
  to BBYO \n     The cost includes:
DTEND:20160305T220000
DTSTAMP:20260420T162341Z
DTSTART:20160305T193000
LOCATION:The Big Event
SEQUENCE:0
SUMMARY:At The Big Event (new to BBYO) PC4020 MM16
UID:9532d838-a0eb-44c0-a153-51a8604873fb
END:VEVENT
END:VCALENDAR
