BEGIN:VCALENDAR
PRODID:-//github.com/rianjs/ical.net//NONSGML ical.net 4.0//EN
VERSION:2.0
BEGIN:VEVENT
DESCRIPTION:Details:\nhttps://bbyo.org/bbyo-near-you/regions/lonestar-regi
 on/houston-prospect-member-parent-meeting
DTEND:20240120T183000
DTSTAMP:20260425T235215Z
DTSTART:20240120T180000
LOCATION:Houston Texas
SEQUENCE:0
SUMMARY:Houston Prospect Member Parent Meeting
UID:a1ffbc95-6057-42af-9269-a73f2052b8ce
END:VEVENT
END:VCALENDAR
