BEGIN:VCALENDAR
PRODID:-//github.com/rianjs/ical.net//NONSGML ical.net 4.0//EN
VERSION:2.0
BEGIN:VEVENT
DESCRIPTION:Details:\nhttps://bbyo.org/bbyo-near-you/regions/hudson-valley
 -region/hudson-valley-region-rlti
DTEND:20180107T000100
DTSTAMP:20260422T020129Z
DTSTART;VALUE=DATE:20180107
LOCATION:
SEQUENCE:0
SUMMARY:Hudson Valley Region RLTI
UID:34e35bfe-efd3-4ff1-aeff-55f959b55487
END:VEVENT
END:VCALENDAR
