BEGIN:VCALENDAR
PRODID:-//github.com/rianjs/ical.net//NONSGML ical.net 4.0//EN
VERSION:2.0
BEGIN:VEVENT
DESCRIPTION:Details:\nhttps://bbyo.org/bbyo-near-you/regions/south-jersey-
 region/sjr-bbgg-kickball\n\nSummary:\nSJR BBGs! Come join us at our BBGG 
 Kickball game. We will have a one hour game on 5/16. Check with your chap
 ter if you have any other chapter events this weekend at well!\n\n \n\nTh
 is event is l
DTEND:20210516T110000
DTSTAMP:20260419T122813Z
DTSTART:20210516T100000
LOCATION:Sheri Park
SEQUENCE:0
SUMMARY:SJR BBGG Kickball
UID:e289704e-363f-435f-aa6e-bd90046b5002
END:VEVENT
END:VCALENDAR
