BEGIN:VCALENDAR
PRODID:-//github.com/rianjs/ical.net//NONSGML ical.net 4.0//EN
VERSION:2.0
BEGIN:VEVENT
DESCRIPTION:Details:\nhttps://bbyo.org/bbyo-near-you/regions/lonestar-regi
 on/greater-houston-council-fall-2018-lti\n\nSummary:\nGHC Fall Term 2018 
 Board Training!
DTEND:20180819T170000
DTSTAMP:20260423T091859Z
DTSTART:20180819T140000
LOCATION:Houston Texas
SEQUENCE:0
SUMMARY:Greater Houston Council Fall 2018 LTI
UID:13057090-a6c1-4ec2-9428-98b1ac339cea
END:VEVENT
END:VCALENDAR
