BEGIN:VCALENDAR
PRODID:-//github.com/rianjs/ical.net//NONSGML ical.net 4.0//EN
VERSION:2.0
BEGIN:VEVENT
DESCRIPTION:Details:\nhttps://bbyo.org/bbyo-near-you/regions/mid-america-r
 egion-north-star-council/north-star-council-presents-ochos-x-chabibi-coll
 ab\n\nSummary:\nRegister by February 7th to receive a goodie bag filled w
 ith Valentines candy and all the supplies needed for your card to a frien
 d at Sholom Home (Twin Cities' Jewish senior facility)!
DTEND:20210214T170000
DTSTAMP:20260420T180507Z
DTSTART:20210214T160000
LOCATION:Zoom
SEQUENCE:0
SUMMARY:North Star Council Presents: Ochos X Chabibi Collab: Valentine's M
 eet & Greet
UID:637aa153-549c-42dd-a64d-ef41395e7c5d
END:VEVENT
END:VCALENDAR
