BEGIN:VCALENDAR
PRODID:-//github.com/rianjs/ical.net//NONSGML ical.net 4.0//EN
VERSION:2.0
BEGIN:VEVENT
DESCRIPTION:Details:\nhttps://bbyo.org/bbyo-near-you/regions/michigan-regi
 on/mi-building-entrepreneurship-2016-2017
DTEND:20170331T090000
DTSTAMP:20260420T102254Z
DTSTART:20161117T160000
LOCATION:WBJCC
SEQUENCE:0
SUMMARY:MI Building Entrepreneurship 2016-2017
UID:3d86f53e-0542-4e60-a0e4-5e5298cd15dd
END:VEVENT
END:VCALENDAR
