BEGIN:VCALENDAR
PRODID:-//github.com/rianjs/ical.net//NONSGML ical.net 4.0//EN
VERSION:2.0
BEGIN:VEVENT
DESCRIPTION:Details:\nhttps://bbyo.org/bbyo-near-you/regions/northern-regi
 on-east-baltimore-council/baltimore-council-ic-2022-launch-night!
DTEND:20211019T203000
DTSTAMP:20260422T221543Z
DTSTART:20211019T190000
LOCATION:Lutherville Maryland
SEQUENCE:0
SUMMARY:Baltimore Council IC 2022 Launch Night!
UID:0662f349-7209-4df8-b113-ec696fe18e9b
END:VEVENT
END:VCALENDAR
