BEGIN:VCALENDAR
PRODID:-//github.com/rianjs/ical.net//NONSGML ical.net 4.0//EN
VERSION:2.0
BEGIN:VEVENT
DESCRIPTION:Details:\nhttps://bbyo.org/bbyo-near-you/regions/gold-coast-re
 gion/ic-launch-night-boca
DTEND:20230928T203000
DTSTAMP:20260420T111631Z
DTSTART:20230928T191500
LOCATION:Temple Beth El West Boca
SEQUENCE:0
SUMMARY:IC Launch Night Boca
UID:afb13dcb-4670-471f-9c1d-8113b443dfae
END:VEVENT
END:VCALENDAR
