BEGIN:VCALENDAR
PRODID:-//github.com/rianjs/ical.net//NONSGML ical.net 4.0//EN
VERSION:2.0
BEGIN:VEVENT
DESCRIPTION:Details:\nhttps://bbyo.org/bbyo-near-you/regions/great-midwest
 -region/korczak/korczak-s-connect-event
DTEND:20210307T203000
DTSTAMP:20260421T022445Z
DTSTART:20210307T190000
LOCATION:Zoom
SEQUENCE:0
SUMMARY:Korczak's Connect Event
UID:acf2b3dc-5032-490b-a572-d7b1305730f6
END:VEVENT
END:VCALENDAR
