BEGIN:VCALENDAR
PRODID:-//github.com/rianjs/ical.net//NONSGML ical.net 4.0//EN
VERSION:2.0
BEGIN:VEVENT
DESCRIPTION:Details:\nhttps://bbyo.org/bbyo-near-you/regions/greater-jerse
 y-region/ncbbg-meeting-hanukkah-party
DTEND:20151214T183000
DTSTAMP:20260423T200643Z
DTSTART:20151214T163000
LOCATION:Gideon Abramowitz"s home
SEQUENCE:0
SUMMARY:NCBBG Meeting/Hanukkah Party
UID:77e0bc6b-b92b-46a1-bb28-d99c7aec3a24
END:VEVENT
END:VCALENDAR
