BEGIN:VCALENDAR
PRODID:-//github.com/rianjs/ical.net//NONSGML ical.net 4.0//EN
VERSION:2.0
BEGIN:VEVENT
DESCRIPTION:Details:\nhttps://bbyo.org/bbyo-near-you/regions/greater-atlan
 ta-region/gar-new-member-convention-(1)
DTEND;VALUE=DATE:20191020
DTSTAMP:20260425T182826Z
DTSTART;VALUE=DATE:20191018
LOCATION:
SEQUENCE:0
SUMMARY:GAR New Member Convention
UID:5f17d45b-727e-4be8-bd4e-43ffc4f349d9
END:VEVENT
END:VCALENDAR
