BEGIN:VCALENDAR
PRODID:-//github.com/rianjs/ical.net//NONSGML ical.net 4.0//EN
VERSION:2.0
BEGIN:VEVENT
DESCRIPTION:Details:\nhttps://bbyo.org/bbyo-near-you/regions/evergreen-reg
 ion/portland-city-fall-kickoff
DTEND:20210912T160000
DTSTAMP:20260423T091857Z
DTSTART:20210912T130000
LOCATION:Beaverton Oregon
SEQUENCE:0
SUMMARY:Portland City Fall Kickoff
UID:573b12ed-279a-47c5-8645-c1caa7319b7e
END:VEVENT
END:VCALENDAR
