BEGIN:VCALENDAR
PRODID:-//github.com/rianjs/ical.net//NONSGML ical.net 4.0//EN
VERSION:2.0
BEGIN:VEVENT
DESCRIPTION:Details:\nhttps://bbyo.org/bbyo-near-you/regions/connecticut-v
 alley-region/camp-laurelwood-visit
DTEND;VALUE=DATE:20160629
DTSTAMP:20260420T120244Z
DTSTART;VALUE=DATE:20160629
LOCATION:
SEQUENCE:0
SUMMARY:Camp Laurelwood Visit
UID:6543ccd0-bcf5-4600-ae96-2037781b8941
END:VEVENT
END:VCALENDAR
