BEGIN:VCALENDAR
PRODID:-//github.com/rianjs/ical.net//NONSGML ical.net 4.0//EN
VERSION:2.0
BEGIN:VEVENT
DESCRIPTION:Details:\nhttps://bbyo.org/bbyo-near-you/regions/wisconsin-reg
 ion/oneg-in-the-park-(1st-oneg-of-the-year!!)\n\nSummary:\nWI Region BBYO
  Onegs are back!!! \nMeet in the park for announcements\, blessings\, FOO
 D and a chance to hang out with your BBYO friends!!! \n\nCan't wait to se
 e you!! Oh\, and Oneg is always F
DTEND:20060915T160000
DTSTAMP:20260422T202506Z
DTSTART:20060915T150000
LOCATION:Kletzsch Park
SEQUENCE:0
SUMMARY:Oneg in the Park (1st Oneg of the Year!!)
UID:d7175844-0d6a-48b4-89a8-808ed923fbea
END:VEVENT
END:VCALENDAR
