BEGIN:VCALENDAR
PRODID:-//github.com/rianjs/ical.net//NONSGML ical.net 4.0//EN
VERSION:2.0
BEGIN:VEVENT
DESCRIPTION:Details:\nhttps://bbyo.org/bbyo-near-you/regions/manhattan-reg
 ion/mhr-spirit-pack-for-ic-2023-dallas
DTEND:20230220T120000
DTSTAMP:20260419T122907Z
DTSTART:20230216T200000
LOCATION:Pickup at JCC Manhattan
SEQUENCE:0
SUMMARY:MHR Spirit Pack for IC 2023 Dallas
UID:4b6c4413-50bf-4d9e-a50a-c7562ca4639b
END:VEVENT
END:VCALENDAR
