BEGIN:VCALENDAR
PRODID:-//github.com/rianjs/ical.net//NONSGML ical.net 4.0//EN
VERSION:2.0
BEGIN:VEVENT
DESCRIPTION:Details:\nhttps://bbyo.org/bbyo-near-you/regions/lonestar-regi
 on/family-tailgate-party-and-azaa-flag-football-week\n\nSummary:\nShapiro
  vs. Reisbord\nLoeb vs. Lubel
DTEND:20161106T173000
DTSTAMP:20260424T150501Z
DTSTART:20161106T153000
LOCATION:Godwin Park
SEQUENCE:0
SUMMARY:Family Tailgate Party and AZAA Flag Football Week 4
UID:bfe484e6-43c4-4bf9-b277-57d871b2ece5
END:VEVENT
END:VCALENDAR
