BEGIN:VCALENDAR
PRODID:-//github.com/rianjs/ical.net//NONSGML ical.net 4.0//EN
VERSION:2.0
BEGIN:VEVENT
DESCRIPTION:Details:\nhttps://bbyo.org/bbyo-near-you/regions/mid-america-r
 egion-kansas-city-council/shabbat-dinner-with-twos-nordaunian
DTEND:20231117T200000
DTSTAMP:20260424T150537Z
DTSTART:20231117T180000
LOCATION:Noah's House
SEQUENCE:0
SUMMARY:Shabbat Dinner with Twos + Nordaunian
UID:2d253312-71f1-4aac-a379-bda408b637ca
END:VEVENT
END:VCALENDAR
