BEGIN:VCALENDAR
PRODID:-//github.com/rianjs/ical.net//NONSGML ical.net 4.0//EN
VERSION:2.0
BEGIN:VEVENT
DESCRIPTION:Details:\nhttps://bbyo.org/bbyo-near-you/regions/greater-jerse
 y-region/wayne-bbg-movie-night
DTEND:20160108T220000
DTSTAMP:20260420T102318Z
DTSTART:20160108T190000
LOCATION:
SEQUENCE:0
SUMMARY:Wayne bbg movie night
UID:2df364a8-04df-4503-a35f-023e6839d8c9
END:VEVENT
END:VCALENDAR
