BEGIN:VCALENDAR
PRODID:-//github.com/rianjs/ical.net//NONSGML ical.net 4.0//EN
VERSION:2.0
BEGIN:VEVENT
DESCRIPTION:Details:\nhttps://bbyo.org/bbyo-near-you/regions/lonestar-regi
 on/kick-it-with-bbyo-aza-taste-of-bbyo-(pc-5110)\n\nSummary:\nEnjoy slip 
 'n' slide kickball\, video game competitions\, games\, snacks\, and a cha
 nce to hang out with the brothers of Reisbord AZA and Shapiro AZA! \n$10 
 for all current high school members a
DTEND:20170305T160000
DTSTAMP:20260425T183356Z
DTSTART:20170305T140000
LOCATION:Merfish Teen Center
SEQUENCE:0
SUMMARY:Kick It With BBYO - AZA Taste of BBYO (PC 5110)
UID:64efb21b-1d0f-4f73-a28c-b9114466aa39
END:VEVENT
END:VCALENDAR
