BEGIN:VCALENDAR
PRODID:-//github.com/rianjs/ical.net//NONSGML ical.net 4.0//EN
VERSION:2.0
BEGIN:VEVENT
DESCRIPTION:Details:\nhttps://bbyo.org/bbyo-near-you/regions/south-jersey-
 region/regional-board-meeting-(2)
DTEND:20220929T200000
DTSTAMP:20260421T073055Z
DTSTART:20220929T190000
LOCATION:
SEQUENCE:0
SUMMARY:Regional Board Meeting
UID:1e50ca05-5e21-451d-93fd-d527a49fb1f3
END:VEVENT
END:VCALENDAR
