BEGIN:VCALENDAR
PRODID:-//github.com/rianjs/ical.net//NONSGML ical.net 4.0//EN
VERSION:2.0
BEGIN:VEVENT
DESCRIPTION:Details:\nhttps://bbyo.org/bbyo-near-you/regions/big-apple-reg
 ion/big-apple-region-j-serve-2016-(without-transportat\n\nSummary:\nUrban
  farm with BBYO and the Repair the World Teen Service Corps at a Central 
 Brooklyn farm on Sunday\, April 17th for our annual J-Serve! Bushwick Cit
 y Farm is run by neighborhood volunteers
DTEND:20160417T140000
DTSTAMP:20260419T122843Z
DTSTART:20160417T110000
LOCATION:Bushwick City Farm
SEQUENCE:0
SUMMARY:Big Apple Region J-Serve 2016 (WITHOUT Transportation)
UID:c56a08eb-ec00-4a24-bdfc-37c292b7deac
END:VEVENT
END:VCALENDAR
