BEGIN:VCALENDAR
PRODID:-//github.com/rianjs/ical.net//NONSGML ical.net 4.0//EN
VERSION:2.0
BEGIN:VEVENT
DESCRIPTION:Details:\nhttps://bbyo.org/bbyo-near-you/regions/evergreen-reg
 ion/portland-beau-ball
DTEND;VALUE=DATE:20060610
DTSTAMP:20260426T030259Z
DTSTART;VALUE=DATE:20060610
LOCATION:Portland
SEQUENCE:0
SUMMARY:Portland Beau Ball
UID:862d395b-8990-4ff5-a378-1dd771899a57
END:VEVENT
END:VCALENDAR
