BEGIN:VCALENDAR
PRODID:-//github.com/rianjs/ical.net//NONSGML ical.net 4.0//EN
VERSION:2.0
BEGIN:VEVENT
DESCRIPTION:Details:\nhttps://bbyo.org/bbyo-near-you/regions/wisconsin-reg
 ion/wisco-fall-chapter-execs-training
DTEND:20240908T170000
DTSTAMP:20260422T113649Z
DTSTART:20240908T140000
LOCATION:BBYO Offices
SEQUENCE:0
SUMMARY:Wisco Fall Chapter Execs Training
UID:956e3b93-adb9-4009-be57-d53a25c3a1c5
END:VEVENT
END:VCALENDAR
