BEGIN:VCALENDAR
PRODID:-//github.com/rianjs/ical.net//NONSGML ical.net 4.0//EN
VERSION:2.0
BEGIN:VEVENT
DESCRIPTION:Details:\nhttps://bbyo.org/bbyo-near-you/regions/kentucky-indi
 ana-ohio-region/kio-indianapolis-fall-kickoff
DTEND:20170917T000500
DTSTAMP:20260423T002143Z
DTSTART;VALUE=DATE:20170917
LOCATION:
SEQUENCE:0
SUMMARY:KIO: Indianapolis Fall Kickoff
UID:ce23b948-ea82-4f94-b423-683569731593
END:VEVENT
END:VCALENDAR
