BEGIN:VCALENDAR
PRODID:-//github.com/rianjs/ical.net//NONSGML ical.net 4.0//EN
VERSION:2.0
BEGIN:VEVENT
DESCRIPTION:Details:\nhttps://bbyo.org/bbyo-near-you/regions/keystone-moun
 tain-region/beau-dance\n\nSummary:\nTHIS ANNUAL DANCE IS HELD AT AN ELEGA
 NT HOTEL IN THE GRAND BALLROOM.  EVERY JEWISH TEEN IS INVITED FROM EIGHTH
  GRADE TO TWELFTH GRADE.
DTEND:20060401T223000
DTSTAMP:20260423T002104Z
DTSTART:20060401T183000
LOCATION:OMNI WESTIN WILLIAM PENN
SEQUENCE:0
SUMMARY:BEAU DANCE
UID:468a341a-6a64-4458-ad71-3a74cc6b023f
END:VEVENT
END:VCALENDAR
