BEGIN:VCALENDAR
PRODID:-//github.com/rianjs/ical.net//NONSGML ical.net 4.0//EN
VERSION:2.0
BEGIN:VEVENT
DESCRIPTION:Details:\nhttps://bbyo.org/bbyo-near-you/regions/great-midwest
 -region/gmr-regional-board-training
DTEND;VALUE=DATE:20170827
DTSTAMP:20260423T042918Z
DTSTART;VALUE=DATE:20170826
LOCATION:
SEQUENCE:0
SUMMARY:GMR-Regional Board Training
UID:7e5230b2-eb44-432f-ba2a-4ccad0c16058
END:VEVENT
END:VCALENDAR
