BEGIN:VCALENDAR
PRODID:-//github.com/rianjs/ical.net//NONSGML ical.net 4.0//EN
VERSION:2.0
BEGIN:VEVENT
DESCRIPTION:Details:\nhttps://bbyo.org/bbyo-near-you/regions/south-jersey-
 region/mockingjay-sjr
DTEND;VALUE=DATE:20151119
DTSTAMP:20260421T083047Z
DTSTART;VALUE=DATE:20151119
LOCATION:
SEQUENCE:0
SUMMARY:Mockingjay SJR
UID:fdb5eb85-0b56-4a2b-936e-43225fcb0a94
END:VEVENT
END:VCALENDAR
