BEGIN:VCALENDAR
PRODID:-//github.com/rianjs/ical.net//NONSGML ical.net 4.0//EN
VERSION:2.0
BEGIN:VEVENT
DESCRIPTION:Details:\nhttps://bbyo.org/bbyo-near-you/regions/north-texas-o
 klahoma-region/last-presidents-meeting-of-spring-term
DTEND:20210516T160000
DTSTAMP:20260425T182916Z
DTSTART:20210516T150000
LOCATION:PnF
SEQUENCE:0
SUMMARY:Last Presidents Meeting of Spring Term
UID:daf6dbb7-e883-4588-a65b-86b0dfc4137a
END:VEVENT
END:VCALENDAR
