BEGIN:VCALENDAR
PRODID:-//github.com/rianjs/ical.net//NONSGML ical.net 4.0//EN
VERSION:2.0
BEGIN:VEVENT
DESCRIPTION:Details:\nhttps://bbyo.org/bbyo-near-you/regions/michigan-regi
 on/hatmadah/hatmadah-@-wiard-s-haunted-house-(1)
DTEND:20231029T213000
DTSTAMP:20260421T203218Z
DTSTART:20231029T190000
LOCATION:Ypsilanti Michigan
SEQUENCE:0
SUMMARY:Hatmadah @ Wiard's Haunted House
UID:702566ba-849b-4c64-969b-af2b70c78236
END:VEVENT
END:VCALENDAR
