BEGIN:VCALENDAR
PRODID:-//github.com/rianjs/ical.net//NONSGML ical.net 4.0//EN
VERSION:2.0
BEGIN:VEVENT
DESCRIPTION:Details:\nhttps://bbyo.org/bbyo-near-you/regions/north-texas-o
 klahoma-region/dallas-stars-jewish-heritage-night
DTEND:20240229T220000
DTSTAMP:20260419T145829Z
DTSTART:20240229T190000
LOCATION:Dallas Texas
SEQUENCE:0
SUMMARY:Dallas Stars Jewish Heritage Night
UID:b7bbb13a-0bf2-4458-aea2-e4f8c59e79a4
END:VEVENT
END:VCALENDAR
