BEGIN:VCALENDAR
PRODID:-//github.com/rianjs/ical.net//NONSGML ical.net 4.0//EN
VERSION:2.0
BEGIN:VEVENT
DESCRIPTION:Details:\nhttps://bbyo.org/bbyo-near-you/regions/lake-ontario-
 region/lor-2017-01-08-volunteer-opp-src-adult-triathlon
DTEND:20170108T120000
DTSTAMP:20260420T180533Z
DTSTART:20170108T070000
LOCATION:Schwartz/Reisman Centre
SEQUENCE:0
SUMMARY:LOR 2017-01-08 - VOLUNTEER OPP SRC Adult Triathlon
UID:6df4b6c7-3d95-49c8-aee9-e79a5ddcde15
END:VEVENT
END:VCALENDAR
