BEGIN:VCALENDAR
PRODID:-//github.com/rianjs/ical.net//NONSGML ical.net 4.0//EN
VERSION:2.0
BEGIN:VEVENT
DESCRIPTION:Details:\nhttps://bbyo.org/bbyo-near-you/regions/wisconsin-reg
 ion/wi-oneg-11-13-15
DTEND;VALUE=DATE:20151113
DTSTAMP:20260425T182938Z
DTSTART;VALUE=DATE:20151113
LOCATION:
SEQUENCE:0
SUMMARY:WI - Oneg 11.13.15
UID:4d057d36-8605-4a3d-a395-84df5f75be56
END:VEVENT
END:VCALENDAR
