BEGIN:VCALENDAR
PRODID:-//github.com/rianjs/ical.net//NONSGML ical.net 4.0//EN
VERSION:2.0
BEGIN:VEVENT
DESCRIPTION:Details:\nhttps://bbyo.org/bbyo-near-you/regions/lake-ontario-
 region/lor-2016-02-09-toronto-delegation-for-ic-2016
DTEND:20160215T200000
DTSTAMP:20260421T141549Z
DTSTART:20160209T230000
LOCATION:Baltimore
SEQUENCE:0
SUMMARY:LOR 2016-02-09 - Toronto Delegation for IC 2016
UID:f2af77ea-3803-4a5a-9174-a1953623613e
END:VEVENT
END:VCALENDAR
