BEGIN:VCALENDAR
PRODID:-//github.com/rianjs/ical.net//NONSGML ical.net 4.0//EN
VERSION:2.0
BEGIN:VEVENT
DESCRIPTION:Details:\nhttps://bbyo.org/bbyo-near-you/regions/mid-america-r
 egion-st-louis-council/aza-spring-bash
DTEND:20210313T200000
DTSTAMP:20260423T114249Z
DTSTART:20210313T170000
LOCATION:Saint Louis Missouri
SEQUENCE:0
SUMMARY:AZA Spring Bash
UID:7cbf8735-1a1e-44f1-9942-3ae5d70430f4
END:VEVENT
END:VCALENDAR
