BEGIN:VCALENDAR
PRODID:-//github.com/rianjs/ical.net//NONSGML ical.net 4.0//EN
VERSION:2.0
BEGIN:VEVENT
DESCRIPTION:Details:\nhttps://bbyo.org/bbyo-near-you/regions/lonestar-regi
 on/austin-texoma-kallah-2019\n\nSummary:\nRegistration for Texoma Convent
 ion 2019 open's on Sunday\, August 18th at 7:00 PM.
DTEND:20191027T150000
DTSTAMP:20260419T123145Z
DTSTART:20191025T163000
LOCATION:Bruceville Texas
SEQUENCE:0
SUMMARY:AUSTIN Texoma Kallah 2019
UID:55354515-2f44-4850-9537-f12df172cd05
END:VEVENT
END:VCALENDAR
