BEGIN:VCALENDAR
PRODID:-//github.com/rianjs/ical.net//NONSGML ical.net 4.0//EN
VERSION:2.0
BEGIN:VEVENT
DESCRIPTION:Details:\nhttps://bbyo.org/bbyo-near-you/regions/miami-region/
 miami-region-fall-convention
DTEND:20221106T130000
DTSTAMP:20260420T225122Z
DTSTART:20221104T160000
LOCATION:Deerfield Beach Florida
SEQUENCE:0
SUMMARY:Miami Region Fall Convention
UID:db73086f-d13e-47f3-8546-9976c1d2334c
END:VEVENT
END:VCALENDAR
