BEGIN:VCALENDAR
PRODID:-//github.com/rianjs/ical.net//NONSGML ical.net 4.0//EN
VERSION:2.0
BEGIN:VEVENT
DESCRIPTION:Details:\nhttps://bbyo.org/bbyo-near-you/regions/north-texas-o
 klahoma-region/oklahoma-frontier-city-trip
DTEND:20240519T190000
DTSTAMP:20260419T160353Z
DTSTART:20240519T150000
LOCATION:Oklahoma City Oklahoma
SEQUENCE:0
SUMMARY:Oklahoma Frontier City Trip
UID:2134026a-a82c-4d99-9428-de8ac44c02e0
END:VEVENT
END:VCALENDAR
