BEGIN:VCALENDAR
PRODID:-//github.com/rianjs/ical.net//NONSGML ical.net 4.0//EN
VERSION:2.0
BEGIN:VEVENT
DESCRIPTION:Details:\nhttps://bbyo.org/bbyo-near-you/regions/mountain-regi
 on/tucson-jewish-film-festival-teen-screening
DTEND:20240108T200000
DTSTAMP:20260422T101207Z
DTSTART:20240108T180000
LOCATION:Tucson JCC Ballroom
SEQUENCE:0
SUMMARY:Tucson Jewish Film Festival Teen Screening
UID:c7d2dfad-c3ea-4229-a2ae-220e8b721f69
END:VEVENT
END:VCALENDAR
