BEGIN:VCALENDAR
PRODID:-//github.com/rianjs/ical.net//NONSGML ical.net 4.0//EN
VERSION:2.0
BEGIN:VEVENT
DESCRIPTION:Details:\nhttps://bbyo.org/bbyo-near-you/regions/rocky-mountai
 n-region/mother-daughter-challah-bake
DTEND:20221208T200000
DTSTAMP:20260421T094141Z
DTSTART:20221208T180000
LOCATION:Temple Sinai
SEQUENCE:0
SUMMARY:Mother Daughter Challah Bake
UID:bfe7a71a-f386-492c-af07-4fda8dfd55ea
END:VEVENT
END:VCALENDAR
