BEGIN:VCALENDAR
PRODID:-//github.com/rianjs/ical.net//NONSGML ical.net 4.0//EN
VERSION:2.0
BEGIN:VEVENT
DESCRIPTION:Details:\nhttps://bbyo.org/bbyo-near-you/regions/new-england-r
 egion/ner-beau-sweetheart-dance-(pc-5000)\n\nSummary:\nPlease contact the
  office to register - swalsh@bbyo.orgThe bus for Beau Sweetheart in Acton
 /Metrowest/Wellesley is sold out.There is space on the North Shore/Sharon
  Bus! Te
DTEND:20160305T223000
DTSTAMP:20260423T200916Z
DTSTART:20160305T193000
LOCATION:Brown RISD Hillel
SEQUENCE:0
SUMMARY:NER - Beau Sweetheart Dance - (PC - 5000)
UID:c4539e99-0b76-480e-a9cb-5112137a4858
END:VEVENT
END:VCALENDAR
