BEGIN:VCALENDAR
PRODID:-//github.com/rianjs/ical.net//NONSGML ical.net 4.0//EN
VERSION:2.0
BEGIN:VEVENT
DESCRIPTION:Details:\nhttps://bbyo.org/bbyo-near-you/regions/mid-america-r
 egion-kansas-city-council/mar-fall-regional-convention
DTEND;VALUE=DATE:20171029
DTSTAMP:20260424T121120Z
DTSTART;VALUE=DATE:20171027
LOCATION:
SEQUENCE:0
SUMMARY:MAR: Fall Regional Convention
UID:3ea93433-5b89-4f78-a996-fa37fe61c5cd
END:VEVENT
END:VCALENDAR
