BEGIN:VCALENDAR
PRODID:-//github.com/rianjs/ical.net//NONSGML ical.net 4.0//EN
VERSION:2.0
BEGIN:VEVENT
DESCRIPTION:Details:\nhttps://bbyo.org/bbyo-near-you/regions/greater-jerse
 y-region/pink-white-2020-hosted-by-pvaza-pvbbg\n\nSummary:\n On Sunday\, 
 October 18th\, Pascack Valley BBG and AZA will be holding our annual Pink
  and White Ball! While this year’s event will look a little different tha
 n it has in the past\, it will be an absolutely amazing evening of fun\, 
 meaningful programming\, raffles\, guest speakers\, and more! In keeping 
 with the original theme\, we hope everyone will be wearing their favorite
  pink/white outfits. The cost of attendance will be $18 as an “early bird
  special”\, until October 4th then the price will be raised to $22 until 
 the close of signups on October 15th. All money raised will go to Play fo
 r P.I.N.K.\, an organization that funds breast cancer research. The ~ 3 h
 our event (with some breaks) will begin at 6:30 PM! Once we get closer to
  the date\, an email will be sent out to all registered including the eve
 nt schedule and link to join!\n
DTEND:20201018T213000
DTSTAMP:20260424T102001Z
DTSTART:20201018T183000
LOCATION:Virtual (Zoom)
SEQUENCE:0
SUMMARY:Pink & White 2020 -Hosted by PVAZA & PVBBG
UID:99e2d944-9eb8-4de8-9f2e-13aeea7f0330
END:VEVENT
END:VCALENDAR
