BEGIN:VCALENDAR
PRODID:-//github.com/rianjs/ical.net//NONSGML ical.net 4.0//EN
VERSION:2.0
BEGIN:VEVENT
DESCRIPTION:Details:\nhttps://bbyo.org/bbyo-near-you/regions/north-texas-o
 klahoma-region/nto-spring-2021-chapter-execs
DTEND:20220123T160000
DTSTAMP:20260425T194121Z
DTSTART:20220123T130000
LOCATION:Dallas Texas
SEQUENCE:0
SUMMARY:NTO Spring 2021 Chapter Execs
UID:38413a42-895d-46f1-94f8-112f88a9bb5b
END:VEVENT
END:VCALENDAR
